BEGIN:VCALENDAR
PRODID: -//CFLIB.ORG//iCalUS()//EN
VERSION:2.0
METHOD:REQUEST
BEGIN:VTIMEZONE
BEGIN:STANDARD
DTSTART:20061101T020000
RRULE:FREQ=YEARLY;INTERVAL=1;BYDAY=1SU;BYMONTH=11
TZOFFSETFROM:-0400
TZOFFSETTO:-0500
TZNAME:Standard Time
END:STANDARD
BEGIN:DAYLIGHT
DTSTART:20060301T020000
RRULE:FREQ=YEARLY;INTERVAL=1;BYDAY=2SU;BYMONTH=3
TZOFFSETFROM:-0500
TZOFFSETTO:-0400
TZNAME:Daylight Savings Time
END:DAYLIGHT
END:VTIMEZONE
BEGIN:VEVENT
UID:1583103129374.CFLIB.ORG
ORGANIZER;CN=:MAILTO:
DTSTAMP:20200302T095209
DTSTART;TZID=Eastern Time:20200321T113000
DTEND;TZID=Eastern Time:20200321T123000
SUMMARY:J A CAIN - PROPERTY AUCTION - 1/2 Chester Street, Glen Iris, 3146
LOCATION:1/2 Chester Street, Glen Iris, 3146
DESCRIPTION:PROPERTY AUCTION: 1/2 Chester Street, Glen Iris, 3146\n\n\nAUCTION DATE: 21 March 2020 - 11:30AM\nAUCTION LOCATION: 1/2 Chester Street, Glen Iris, 3146\n\n\nClick the link for full listing information: http://www.jacain.com.au?/property/3391410
PRIORITY:1
TRANSP:OPAQUE
CLASS:PUBLIC
BEGIN:VALARM
TRIGGER:-PT30M
ACTION:DISPLAY
DESCRIPTION:Reminder
END:VALARM
END:VEVENT
END:VCALENDAR 